BEGIN:VCALENDAR
VERSION:2.0
PRODID:-//Home of the Essex County Leathernecks - ECPv6.15.20//NONSGML v1.0//EN
CALSCALE:GREGORIAN
METHOD:PUBLISH
X-ORIGINAL-URL:https://essexcountyleathernecks.org
X-WR-CALDESC:Events for Home of the Essex County Leathernecks
REFRESH-INTERVAL;VALUE=DURATION:PT1H
X-Robots-Tag:noindex
X-PUBLISHED-TTL:PT1H
BEGIN:VTIMEZONE
TZID:America/New_York
BEGIN:DAYLIGHT
TZOFFSETFROM:-0500
TZOFFSETTO:-0400
TZNAME:EDT
DTSTART:20230312T070000
END:DAYLIGHT
BEGIN:STANDARD
TZOFFSETFROM:-0400
TZOFFSETTO:-0500
TZNAME:EST
DTSTART:20231105T060000
END:STANDARD
BEGIN:DAYLIGHT
TZOFFSETFROM:-0500
TZOFFSETTO:-0400
TZNAME:EDT
DTSTART:20240310T070000
END:DAYLIGHT
BEGIN:STANDARD
TZOFFSETFROM:-0400
TZOFFSETTO:-0500
TZNAME:EST
DTSTART:20241103T060000
END:STANDARD
BEGIN:DAYLIGHT
TZOFFSETFROM:-0500
TZOFFSETTO:-0400
TZNAME:EDT
DTSTART:20250309T070000
END:DAYLIGHT
BEGIN:STANDARD
TZOFFSETFROM:-0400
TZOFFSETTO:-0500
TZNAME:EST
DTSTART:20251102T060000
END:STANDARD
BEGIN:DAYLIGHT
TZOFFSETFROM:-0500
TZOFFSETTO:-0400
TZNAME:EDT
DTSTART:20260308T070000
END:DAYLIGHT
BEGIN:STANDARD
TZOFFSETFROM:-0400
TZOFFSETTO:-0500
TZNAME:EST
DTSTART:20261101T060000
END:STANDARD
END:VTIMEZONE
BEGIN:VTIMEZONE
TZID:UTC
BEGIN:STANDARD
TZOFFSETFROM:+0000
TZOFFSETTO:+0000
TZNAME:UTC
DTSTART:20230101T000000
END:STANDARD
END:VTIMEZONE
BEGIN:VEVENT
DTSTART;TZID=America/New_York:20251204T183000
DTEND;TZID=America/New_York:20251204T193000
DTSTAMP:20260422T162023
CREATED:20250115T225157Z
LAST-MODIFIED:20250610T231954Z
UID:329-1764873000-1764876600@essexcountyleathernecks.org
SUMMARY:Monthly Business Meeting
DESCRIPTION:Please join us at the Ticonderoga VFW for our monthly business meeting. A light dinner will be provided for those who like to show up a bit early. Our meeting officially starts at 1830. \nTo ensure the detachment provides enough food\, be sure to respond to the email that is sent to members within a day or two of our meeting.
URL:https://essexcountyleathernecks.org/event/monthly-business-meeting-13/
LOCATION:VFW Post 146\, 12 Shore-Airport Road\, Ticonderoga\, NY\, 12883\, United States
CATEGORIES:Business,Meeting
ATTACH;FMTTYPE=image/jpeg:https://essexcountyleathernecks.org/wp-content/uploads/2024/11/cropped-ECL_coin-e1732650152854.jpg
END:VEVENT
BEGIN:VEVENT
DTSTART;TZID=America/New_York:20251106T183000
DTEND;TZID=America/New_York:20251106T193000
DTSTAMP:20260422T162023
CREATED:20250115T225009Z
LAST-MODIFIED:20250610T231809Z
UID:327-1762453800-1762457400@essexcountyleathernecks.org
SUMMARY:Monthly Business Meeting
DESCRIPTION:Please join us at the Ticonderoga VFW for our monthly business meeting. A light dinner will be provided for those who like to show up a bit early. Our meeting officially starts at 1830. \nTo ensure the detachment provides enough food\, be sure to respond to the email that is sent to members within a day or two of our meeting.
URL:https://essexcountyleathernecks.org/event/monthly-business-meeting-12/
LOCATION:VFW Post 146\, 12 Shore-Airport Road\, Ticonderoga\, NY\, 12883\, United States
CATEGORIES:Business,Meeting
ATTACH;FMTTYPE=image/jpeg:https://essexcountyleathernecks.org/wp-content/uploads/2024/11/cropped-ECL_coin-e1732650152854.jpg
END:VEVENT
BEGIN:VEVENT
DTSTART;TZID=America/New_York:20251002T183000
DTEND;TZID=America/New_York:20251002T190000
DTSTAMP:20260422T162023
CREATED:20250115T223717Z
LAST-MODIFIED:20250610T231730Z
UID:320-1759429800-1759431600@essexcountyleathernecks.org
SUMMARY:Monthly Business Meeting
DESCRIPTION:Please join us at our Crown Point location for our monthly business meeting. A light dinner will be provided for those who like to show up a bit early. Our meeting officially starts at 1830. \nTo ensure the detachment provides enough food\, be sure to respond to the email that is sent to members within a day or two of our meeting.
URL:https://essexcountyleathernecks.org/event/monthly-business-meeting-11/
LOCATION:NY
CATEGORIES:Business,Meeting
ATTACH;FMTTYPE=image/jpeg:https://essexcountyleathernecks.org/wp-content/uploads/2024/11/cropped-ECL_coin-e1732650152854.jpg
END:VEVENT
BEGIN:VEVENT
DTSTART;TZID=America/New_York:20250807T183000
DTEND;TZID=America/New_York:20250807T193000
DTSTAMP:20260422T162023
CREATED:20250115T223301Z
LAST-MODIFIED:20250610T231501Z
UID:315-1754591400-1754595000@essexcountyleathernecks.org
SUMMARY:Monthly Business Meeting
DESCRIPTION:Please join us  for our monthly business meeting. The location is in Ticonderoga\, on the lake front. A light dinner will be provided for those who like to show up a bit early. Our meeting officially starts at 1830. \nTo ensure the detachment provides enough food\, be sure to respond to the email that is sent to members within a day or two of our meeting.
URL:https://essexcountyleathernecks.org/event/monthly-business-meeting-9/
LOCATION:Contact us for the address\, Contact us for the address
CATEGORIES:Business,Meeting
ATTACH;FMTTYPE=image/jpeg:https://essexcountyleathernecks.org/wp-content/uploads/2024/11/cropped-ECL_coin-e1732650152854.jpg
END:VEVENT
BEGIN:VEVENT
DTSTART;TZID=America/New_York:20250710T183000
DTEND;TZID=America/New_York:20250710T193000
DTSTAMP:20260422T162023
CREATED:20250115T223038Z
LAST-MODIFIED:20250610T231356Z
UID:313-1752172200-1752175800@essexcountyleathernecks.org
SUMMARY:Monthly Business Meeting
DESCRIPTION:Please join us at our Crown Point location for our monthly business meeting. A light dinner will be provided for those who like to show up a bit early. Our meeting officially starts at 1830. \nTo ensure the detachment provides enough food\, be sure to respond to the email that is sent to members within a day or two of our meeting. \nDue to the holiday\, this meeting has been rescheduled to the second Thursday of the month.
URL:https://essexcountyleathernecks.org/event/monthly-business-meeting-8/
LOCATION:Crown Point NY\, 1145 White Church\, Crown Point\, 12928\, United States
CATEGORIES:Business,Meeting
ATTACH;FMTTYPE=image/jpeg:https://essexcountyleathernecks.org/wp-content/uploads/2024/11/cropped-ECL_coin-e1732650152854.jpg
END:VEVENT
BEGIN:VEVENT
DTSTART;TZID=America/New_York:20250605T183000
DTEND;TZID=America/New_York:20250605T193000
DTSTAMP:20260422T162023
CREATED:20250115T222852Z
LAST-MODIFIED:20250115T222852Z
UID:311-1749148200-1749151800@essexcountyleathernecks.org
SUMMARY:Monthly Business Meeting
DESCRIPTION:Please join us at our Crown Point location for our monthly business meeting. A light dinner will be provided for those who like to show up a bit early. Our meeting officially starts at 1830. \nTo ensure the detachment provides enough food\, be sure to respond to the email that is sent to members within a day or two of our meeting.
URL:https://essexcountyleathernecks.org/event/monthly-business-meeting-7/
LOCATION:Crown Point NY\, 1145 White Church\, Crown Point\, 12928\, United States
CATEGORIES:Business,Meeting
ATTACH;FMTTYPE=image/jpeg:https://essexcountyleathernecks.org/wp-content/uploads/2024/11/cropped-ECL_coin-e1732650152854.jpg
END:VEVENT
BEGIN:VEVENT
DTSTART;TZID=America/New_York:20250508T183000
DTEND;TZID=America/New_York:20250508T193000
DTSTAMP:20260422T162023
CREATED:20250115T222654Z
LAST-MODIFIED:20250429T230306Z
UID:306-1746729000-1746732600@essexcountyleathernecks.org
SUMMARY:Monthly Business Meeting
DESCRIPTION:Please join us at the Ticonderoga VFW for our monthly business meeting. A light dinner will be provided for those who like to show up a bit early. Our meeting officially starts at 1830. \nThis event has been rescheduled from May 1\, 2025 to May 8\, 2025. \nTo ensure the detachment provides enough food\, be sure to respond to the email that is sent to members within a day or two of our meeting.
URL:https://essexcountyleathernecks.org/event/monthly-business-meeting-6/
LOCATION:VFW Post 146\, 12 Shore-Airport Road\, Ticonderoga\, NY\, 12883\, United States
CATEGORIES:Business,Meeting
ATTACH;FMTTYPE=image/jpeg:https://essexcountyleathernecks.org/wp-content/uploads/2024/11/cropped-ECL_coin-e1732650152854.jpg
END:VEVENT
BEGIN:VEVENT
DTSTART;TZID=America/New_York:20250403T183000
DTEND;TZID=America/New_York:20250403T193000
DTSTAMP:20260422T162023
CREATED:20250104T010617Z
LAST-MODIFIED:20250115T221756Z
UID:301-1743705000-1743708600@essexcountyleathernecks.org
SUMMARY:Monthly Business Meeting
DESCRIPTION:Please join us at the Ticonderoga VFW for our monthly business meeting. A light dinner will be provided for those who like to show up a bit early. Our meeting starts at 1830. \nTo ensure the detachment provides enough food\, be sure to respond to the email that is sent to members within a day or two of our meeting.
URL:https://essexcountyleathernecks.org/event/monthly-business-meeting-5/
LOCATION:VFW Post 146\, 12 Shore-Airport Road\, Ticonderoga\, NY\, 12883\, United States
CATEGORIES:Business,Meeting
ATTACH;FMTTYPE=image/jpeg:https://essexcountyleathernecks.org/wp-content/uploads/2024/11/cropped-ECL_coin-e1732650152854.jpg
END:VEVENT
BEGIN:VEVENT
DTSTART;TZID=America/New_York:20250306T183000
DTEND;TZID=America/New_York:20250306T193000
DTSTAMP:20260422T162023
CREATED:20250104T005416Z
LAST-MODIFIED:20250115T221821Z
UID:296-1741285800-1741289400@essexcountyleathernecks.org
SUMMARY:Monthly Business Meeting
DESCRIPTION:Please join us at the Ticonderoga VFW for our monthly business meeting. A light dinner will be provided for those who like to show up a bit early. Our meeting starts at 1830. \nTo ensure the detachment provides enough food\, be sure to respond to the email that is sent to members within a day or two of our meeting.
URL:https://essexcountyleathernecks.org/event/monthly-business-meeting-4/
LOCATION:VFW Post 146\, 12 Shore-Airport Road\, Ticonderoga\, NY\, 12883\, United States
CATEGORIES:Business,Meeting
ATTACH;FMTTYPE=image/jpeg:https://essexcountyleathernecks.org/wp-content/uploads/2024/11/cropped-ECL_coin-e1732650152854.jpg
END:VEVENT
BEGIN:VEVENT
DTSTART;TZID=America/New_York:20250206T183000
DTEND;TZID=America/New_York:20250206T193000
DTSTAMP:20260422T162023
CREATED:20250104T004418Z
LAST-MODIFIED:20250115T221842Z
UID:292-1738866600-1738870200@essexcountyleathernecks.org
SUMMARY:Monthly Business Meeting
DESCRIPTION:Please join us at the Ticonderoga VFW for our monthly business meeting. A light dinner will be provided for those who like to show up a bit early. Our meeting starts at 1830. \nTo ensure the detachment provides enough food\, be sure to respond to the email that is sent to members within a day or two of our meeting.
URL:https://essexcountyleathernecks.org/event/monthly-business-meeting-3/
LOCATION:VFW Post 146\, 12 Shore-Airport Road\, Ticonderoga\, NY\, 12883\, United States
CATEGORIES:Business,Meeting
ATTACH;FMTTYPE=image/jpeg:https://essexcountyleathernecks.org/wp-content/uploads/2024/11/cropped-ECL_coin-e1732650152854.jpg
END:VEVENT
BEGIN:VEVENT
DTSTART;TZID=America/New_York:20250109T183000
DTEND;TZID=America/New_York:20250109T193000
DTSTAMP:20260422T162023
CREATED:20250104T005808Z
LAST-MODIFIED:20250104T005808Z
UID:298-1736447400-1736451000@essexcountyleathernecks.org
SUMMARY:Monthly Business Meeting
DESCRIPTION:Please join us at the Ticonderoga VFW for our monthly business meeting. A light dinner will be provided for those who like to show up a bit early. Our meeting starts at 1830 PM. \nTo ensure the detachment provides enough food\, be sure to respond to the email that is sent to members within a day or two of our meeting.
URL:https://essexcountyleathernecks.org/event/monthly-business-meeting-2/
LOCATION:VFW Post 146\, 12 Shore-Airport Road\, Ticonderoga\, NY\, 12883\, United States
CATEGORIES:Business,Meeting
ATTACH;FMTTYPE=image/jpeg:https://essexcountyleathernecks.org/wp-content/uploads/2024/11/cropped-ECL_coin-e1732650152854.jpg
END:VEVENT
BEGIN:VEVENT
DTSTART;TZID=America/New_York:20241217T080000
DTEND;TZID=America/New_York:20241217T170000
DTSTAMP:20260422T162023
CREATED:20241217T212005Z
LAST-MODIFIED:20250104T005017Z
UID:245-1734422400-1734454800@essexcountyleathernecks.org
SUMMARY:Monthly Business Meeting
DESCRIPTION:We usually meet the first Thursday of each month however this month only we are meeting on the second Thursday. \nPlease join us at the Ticonderoga VFW for our monthly business meeting. A light dinner^ will be provided for those who like to show up a bit early. Our meeting starts at 1830 PM. \n*To ensure the detachment provides enough food\, be sure to respond to the email that is sent to members within a day or two of our meeting. \n 
URL:https://essexcountyleathernecks.org/event/business-meeting/
LOCATION:NY
CATEGORIES:Business,Meeting
END:VEVENT
BEGIN:VEVENT
DTSTART;TZID=UTC:20241205T183000
DTEND;TZID=UTC:20241205T193000
DTSTAMP:20260422T162023
CREATED:20241205T233025Z
LAST-MODIFIED:20241129T162655Z
UID:197-1733423400-1733427000@essexcountyleathernecks.org
SUMMARY:Monthly Business Meeting
DESCRIPTION:The Essex County Leathernecks business meeting starts at 6:30 PM. Members come early for a light dinner (provided by the detachment)\, fellowship and to be in community.
URL:https://essexcountyleathernecks.org/event/monthly-business-meeting/
LOCATION:VFW Post 146\, 12 Shore-Airport Road\, Ticonderoga\, NY\, 12883\, United States
CATEGORIES:Business,Meeting,News
ATTACH;FMTTYPE=image/jpeg:https://essexcountyleathernecks.org/wp-content/uploads/2024/11/cropped-ECL_coin-e1732650152854.jpg
END:VEVENT
END:VCALENDAR