BEGIN:VCALENDAR
VERSION:2.0
PRODID:-//Home of the Essex County Leathernecks - ECPv6.15.20//NONSGML v1.0//EN
CALSCALE:GREGORIAN
METHOD:PUBLISH
X-ORIGINAL-URL:https://essexcountyleathernecks.org
X-WR-CALDESC:Events for Home of the Essex County Leathernecks
REFRESH-INTERVAL;VALUE=DURATION:PT1H
X-Robots-Tag:noindex
X-PUBLISHED-TTL:PT1H
BEGIN:VTIMEZONE
TZID:America/New_York
BEGIN:DAYLIGHT
TZOFFSETFROM:-0500
TZOFFSETTO:-0400
TZNAME:EDT
DTSTART:20240310T070000
END:DAYLIGHT
BEGIN:STANDARD
TZOFFSETFROM:-0400
TZOFFSETTO:-0500
TZNAME:EST
DTSTART:20241103T060000
END:STANDARD
BEGIN:DAYLIGHT
TZOFFSETFROM:-0500
TZOFFSETTO:-0400
TZNAME:EDT
DTSTART:20250309T070000
END:DAYLIGHT
BEGIN:STANDARD
TZOFFSETFROM:-0400
TZOFFSETTO:-0500
TZNAME:EST
DTSTART:20251102T060000
END:STANDARD
BEGIN:DAYLIGHT
TZOFFSETFROM:-0500
TZOFFSETTO:-0400
TZNAME:EDT
DTSTART:20260308T070000
END:DAYLIGHT
BEGIN:STANDARD
TZOFFSETFROM:-0400
TZOFFSETTO:-0500
TZNAME:EST
DTSTART:20261101T060000
END:STANDARD
END:VTIMEZONE
BEGIN:VEVENT
DTSTART;TZID=America/New_York:20250703T160000
DTEND;TZID=America/New_York:20250703T203000
DTSTAMP:20260422T151707
CREATED:20250630T220401Z
LAST-MODIFIED:20250701T233942Z
UID:935-1751558400-1751574600@essexcountyleathernecks.org
SUMMARY:Toys for Tots and Tiny Tim Fundraiser -- Dunk Tank
DESCRIPTION:It’s non-profit collaboration time. Essex County Leathernecks\, through our Toys for Tots collections\, are teaming up with the local Tiny Tim organization again this year. Our joint efforts help support local children with toys and other needed items. Today\, to raise funds we are hosting a dunk tank. Community members who’ve generously volunteered (so far) for this good cause are: \n\nAdam Hurlburt\, Ticonderoga Chief of Police\nRobert Budwick\, Ticonderoga police sergeant\nJim O’Bryan\, retired Ticonderoga judge\nDebbie Barber\, local business owner\n\nWhy not come try out your luck? With 4 balls for $5\, 10 balls for $10 or a guaranteed dunk for $20 — all are winners with this opportunity.
URL:https://essexcountyleathernecks.org/event/toys-for-tots-and-tiny-tim-fundraiser-dunk-tank/
LOCATION:Ticonderoga Bicentennial Park\, 137 Montcalm St\, Ticonderoga\,\, NY\, 12883\, United States
CATEGORIES:Fundraiser,News
ATTACH;FMTTYPE=image/webp:https://essexcountyleathernecks.org/wp-content/uploads/2025/05/Toys-for-tots.webp
END:VEVENT
END:VCALENDAR