BEGIN:VCALENDAR
VERSION:2.0
PRODID:-//Home of the Essex County Leathernecks - ECPv6.15.20//NONSGML v1.0//EN
CALSCALE:GREGORIAN
METHOD:PUBLISH
X-WR-CALNAME:Home of the Essex County Leathernecks
X-ORIGINAL-URL:https://essexcountyleathernecks.org
X-WR-CALDESC:Events for Home of the Essex County Leathernecks
REFRESH-INTERVAL;VALUE=DURATION:PT1H
X-Robots-Tag:noindex
X-PUBLISHED-TTL:PT1H
BEGIN:VTIMEZONE
TZID:America/New_York
BEGIN:DAYLIGHT
TZOFFSETFROM:-0500
TZOFFSETTO:-0400
TZNAME:EDT
DTSTART:20240310T070000
END:DAYLIGHT
BEGIN:STANDARD
TZOFFSETFROM:-0400
TZOFFSETTO:-0500
TZNAME:EST
DTSTART:20241103T060000
END:STANDARD
BEGIN:DAYLIGHT
TZOFFSETFROM:-0500
TZOFFSETTO:-0400
TZNAME:EDT
DTSTART:20250309T070000
END:DAYLIGHT
BEGIN:STANDARD
TZOFFSETFROM:-0400
TZOFFSETTO:-0500
TZNAME:EST
DTSTART:20251102T060000
END:STANDARD
BEGIN:DAYLIGHT
TZOFFSETFROM:-0500
TZOFFSETTO:-0400
TZNAME:EDT
DTSTART:20260308T070000
END:DAYLIGHT
BEGIN:STANDARD
TZOFFSETFROM:-0400
TZOFFSETTO:-0500
TZNAME:EST
DTSTART:20261101T060000
END:STANDARD
END:VTIMEZONE
BEGIN:VEVENT
DTSTART;TZID=America/New_York:20250609T163000
DTEND;TZID=America/New_York:20250609T180000
DTSTAMP:20260422T183043
CREATED:20250523T220349Z
LAST-MODIFIED:20250523T220726Z
UID:719-1749486600-1749492000@essexcountyleathernecks.org
SUMMARY:Freedom on the Fairway
DESCRIPTION:Homeward Bound Adirondacks is generously offering a free round of golf and cart for veterans. This ongoing event occurs Monday nights beginning in May and continues until the Ticonderoga Golf Course closes for winter.  Veterans meet at the course at 4:30 PM and play until 6:00 PM. Stop in for practice and community with fellow veterans. \nThis event is proudly sponsored by the Joseph P Dwyer Veterans Peer Support Project. \nFor more details about this event\, contact James Howard at (518) 477-3115. To learn more about Homeward Bound Adirondacks and see other events they host\, see https://homewardboundadirondacks.org/
URL:https://essexcountyleathernecks.org/event/freedom-on-the-fairway-4/
LOCATION:Ticonderoga Golf Course\, 609 State Route 9N\, Ticonderoga\, NY\, 12883\, United States
CATEGORIES:Local Veteran Community
ATTACH;FMTTYPE=image/webp:https://essexcountyleathernecks.org/wp-content/uploads/2025/05/HBA.webp
END:VEVENT
BEGIN:VEVENT
DTSTART;TZID=America/New_York:20250608T130000
DTEND;TZID=America/New_York:20250608T180000
DTSTAMP:20260422T183043
CREATED:20250521T214440Z
LAST-MODIFIED:20250521T214739Z
UID:689-1749387600-1749405600@essexcountyleathernecks.org
SUMMARY:2nd Annual Laura Whitford Memorial Mental Health Break Suicide Prevention and Awareness Day
DESCRIPTION:Homeward Bound Adirondacks is hosting a live event in the Crown Point Veteran’s Park. The event begins at 1:00 PM with vendors set up for food sales by Dockside Cafe\, live music\, other vendors and on-site state and federal resources. \nThe Homeward Bound Adirondacks team will also lead a memorial walk including one lap around the park\, starting near 6:00 PM. Other memorial and tribute activities are available as well. \nFor more details about this event\, contact James Howard at (518) 477-3115. To learn more about Homeward Bound Adirondacks and see other events they host\, visit https://homewardboundadirondacks.org/
URL:https://essexcountyleathernecks.org/event/2nd-annual-laura-whitford-memorial-mental-health-break-suicide-prevention-and-awareness-day/
LOCATION:Crown Point Veterans Memorial Park\, 7 Park Ave\, Crown Point\, NY\, 12928\, United States
CATEGORIES:Local Veteran Community,News
ATTACH;FMTTYPE=image/webp:https://essexcountyleathernecks.org/wp-content/uploads/2025/05/HBA.webp
END:VEVENT
BEGIN:VEVENT
DTSTART;TZID=America/New_York:20250606T090000
DTEND;TZID=America/New_York:20250606T110000
DTSTAMP:20260422T183043
CREATED:20250521T212500Z
LAST-MODIFIED:20250521T212746Z
UID:685-1749200400-1749207600@essexcountyleathernecks.org
SUMMARY:Free Breakfast for Veterans
DESCRIPTION:Homeward Bound Adirondacks is generously offering a free breakfast for veterans. This ongoing event occurs the first and last Friday of each month. Veterans meet at the Hot Biscuit Diner between 9:00 AM and 11:00 AM. Stop in\, say hello and enjoy a delicious breakfast from a select menu. \nFor more details about this event\, contact James Howard at (518) 477-3115. To learn more about Homeward Bound Adirondacks and see other events they host\, see https://homewardboundadirondacks.org/
URL:https://essexcountyleathernecks.org/event/free-breakfast-for-veterans-2/
LOCATION:The Hot Biscuit Diner\, 14 Montcalm St\, Ticonderoga\, NY\, 12883\, United States
CATEGORIES:Local Veteran Community
ATTACH;FMTTYPE=image/webp:https://essexcountyleathernecks.org/wp-content/uploads/2025/05/HBA.webp
END:VEVENT
BEGIN:VEVENT
DTSTART;TZID=America/New_York:20250603T083000
DTEND;TZID=America/New_York:20250603T160000
DTSTAMP:20260422T183043
CREATED:20250525T173920Z
LAST-MODIFIED:20250525T173920Z
UID:732-1748939400-1748966400@essexcountyleathernecks.org
SUMMARY:Free Haircut for Veterans
DESCRIPTION:The Ti Barbershop generously offers free haircuts to veterans on the first Tuesdays of each month. Please call ahead to ensure they can fit you in.
URL:https://essexcountyleathernecks.org/event/free-haircut-for-veterans/
LOCATION:Ti Barbershop\, 176 Champlain Ave\, Ticonderoga\, NY\, 12883\, United States
CATEGORIES:Local Veteran Community
ATTACH;FMTTYPE=image/webp:https://essexcountyleathernecks.org/wp-content/uploads/2025/05/ti_barber.webp
END:VEVENT
BEGIN:VEVENT
DTSTART;TZID=America/New_York:20250602T163000
DTEND;TZID=America/New_York:20250602T180000
DTSTAMP:20260422T183043
CREATED:20250523T220156Z
LAST-MODIFIED:20250523T220156Z
UID:717-1748881800-1748887200@essexcountyleathernecks.org
SUMMARY:Freedom on the Fairway
DESCRIPTION:Homeward Bound Adirondacks is generously offering a free round of golf and cart for veterans. This ongoing event occurs Monday nights beginning in May and continues until the Ticonderoga Golf Course closes for winter.  Veterans meet at the course at 4:30 PM and play until 6:00 PM. Stop in for practice and community with fellow veterans. \nThis event is proudly sponsored by the Joseph P Dwyer Veterans Peer Support Project. \nFor more details about this event\, contact James Howard at (518) 477-3115. To learn more about Homeward Bound Adirondacks and see other events they host\, see https://homewardboundadirondacks.org/
URL:https://essexcountyleathernecks.org/event/freedom-on-the-fairway-3/
LOCATION:Ticonderoga Golf Course\, 609 State Route 9N\, Ticonderoga\, NY\, 12883\, United States
CATEGORIES:Local Veteran Community
ATTACH;FMTTYPE=image/webp:https://essexcountyleathernecks.org/wp-content/uploads/2025/05/HBA.webp
END:VEVENT
BEGIN:VEVENT
DTSTART;TZID=America/New_York:20250530T090000
DTEND;TZID=America/New_York:20250530T110000
DTSTAMP:20260422T183043
CREATED:20250514T205710Z
LAST-MODIFIED:20250521T212001Z
UID:647-1748595600-1748602800@essexcountyleathernecks.org
SUMMARY:Free Breakfast for Veterans
DESCRIPTION:Homeward Bound Adirondacks is generously offering a free breakfast for veterans. This ongoing event occurs the first and last Friday of each month. Veterans meet at the Hot Biscuit Diner between 9:00 AM and 11:00 AM. Stop in\, say hello and enjoy a delicious breakfast from a select menu. \nFor more details about this event\, contact James Howard at (518) 477-3115. To learn more about Homeward Bound Adirondacks and see other events they host\, visit https://homewardboundadirondacks.org/
URL:https://essexcountyleathernecks.org/event/free-breakfast-for-veterans/
LOCATION:The Hot Biscuit Diner\, 14 Montcalm St\, Ticonderoga\, NY\, 12883\, United States
CATEGORIES:Local Veteran Community
ATTACH;FMTTYPE=image/webp:https://essexcountyleathernecks.org/wp-content/uploads/2025/05/HBA.webp
END:VEVENT
BEGIN:VEVENT
DTSTART;TZID=America/New_York:20250526T163000
DTEND;TZID=America/New_York:20250526T180000
DTSTAMP:20260422T183043
CREATED:20250523T215943Z
LAST-MODIFIED:20250523T215943Z
UID:715-1748277000-1748282400@essexcountyleathernecks.org
SUMMARY:Freedom on the Fairway
DESCRIPTION:Homeward Bound Adirondacks is generously offering a free round of golf and cart for veterans. This ongoing event occurs Monday nights beginning in May and continues until the Ticonderoga Golf Course closes for winter.  Veterans meet at the course at 4:30 PM and play until 6:00 PM. Stop in for practice and community with fellow veterans. \nThis event is proudly sponsored by the Joseph P Dwyer Veterans Peer Support Project. \nFor more details about this event\, contact James Howard at (518) 477-3115. To learn more about Homeward Bound Adirondacks and see other events they host\, see https://homewardboundadirondacks.org/
URL:https://essexcountyleathernecks.org/event/freedom-on-the-fairway-2/
LOCATION:Ticonderoga Golf Course\, 609 State Route 9N\, Ticonderoga\, NY\, 12883\, United States
CATEGORIES:Local Veteran Community
ATTACH;FMTTYPE=image/webp:https://essexcountyleathernecks.org/wp-content/uploads/2025/05/HBA.webp
END:VEVENT
BEGIN:VEVENT
DTSTART;TZID=America/New_York:20250519T163000
DTEND;TZID=America/New_York:20250519T180000
DTSTAMP:20260422T183043
CREATED:20250514T211520Z
LAST-MODIFIED:20250523T215740Z
UID:656-1747672200-1747677600@essexcountyleathernecks.org
SUMMARY:Freedom on the Fairway
DESCRIPTION:Homeward Bound Adirondacks is generously offering a free round of golf and cart for veterans. This ongoing event occurs Monday nights beginning in May and continues until the Ticonderoga Golf Course closes for winter.  Veterans meet at the course at 4:30 PM and play until 6:00 PM. Stop in for practice and community with fellow veterans. \nThis event is proudly sponsored by the Joseph P Dwyer Veterans Peer Support Project. \nFor more details about this event\, contact James Howard at (518) 477-3115. To learn more about Homeward Bound Adirondacks and see other events they host\, see https://homewardboundadirondacks.org/
URL:https://essexcountyleathernecks.org/event/freedom-on-the-fairway/
LOCATION:Ticonderoga Golf Course\, 609 State Route 9N\, Ticonderoga\, NY\, 12883\, United States
CATEGORIES:Local Veteran Community
ATTACH;FMTTYPE=image/webp:https://essexcountyleathernecks.org/wp-content/uploads/2025/05/HBA.webp
END:VEVENT
END:VCALENDAR