BEGIN:VCALENDAR
VERSION:2.0
PRODID:-//Home of the Essex County Leathernecks - ECPv6.15.20//NONSGML v1.0//EN
CALSCALE:GREGORIAN
METHOD:PUBLISH
X-WR-CALNAME:Home of the Essex County Leathernecks
X-ORIGINAL-URL:https://essexcountyleathernecks.org
X-WR-CALDESC:Events for Home of the Essex County Leathernecks
REFRESH-INTERVAL;VALUE=DURATION:PT1H
X-Robots-Tag:noindex
X-PUBLISHED-TTL:PT1H
BEGIN:VTIMEZONE
TZID:America/New_York
BEGIN:DAYLIGHT
TZOFFSETFROM:-0500
TZOFFSETTO:-0400
TZNAME:EDT
DTSTART:20240310T070000
END:DAYLIGHT
BEGIN:STANDARD
TZOFFSETFROM:-0400
TZOFFSETTO:-0500
TZNAME:EST
DTSTART:20241103T060000
END:STANDARD
BEGIN:DAYLIGHT
TZOFFSETFROM:-0500
TZOFFSETTO:-0400
TZNAME:EDT
DTSTART:20250309T070000
END:DAYLIGHT
BEGIN:STANDARD
TZOFFSETFROM:-0400
TZOFFSETTO:-0500
TZNAME:EST
DTSTART:20251102T060000
END:STANDARD
BEGIN:DAYLIGHT
TZOFFSETFROM:-0500
TZOFFSETTO:-0400
TZNAME:EDT
DTSTART:20260308T070000
END:DAYLIGHT
BEGIN:STANDARD
TZOFFSETFROM:-0400
TZOFFSETTO:-0500
TZNAME:EST
DTSTART:20261101T060000
END:STANDARD
END:VTIMEZONE
BEGIN:VEVENT
DTSTART;TZID=America/New_York:20250427T090000
DTEND;TZID=America/New_York:20250427T150000
DTSTAMP:20260422T194816
CREATED:20250312T172426Z
LAST-MODIFIED:20250312T172645Z
UID:427-1745744400-1745766000@essexcountyleathernecks.org
SUMMARY:Essex County Leathernecks are Selling our Annual Raffle Tickets
DESCRIPTION:Come see your favorite Essex County Leathernecks at the Ticonderoga Walmart Supercenter. Stop by and say hi–we’ll be near the front entrance with enough Marine Corps finery that you can’t miss us! This year we are offering tickets at $10 each for the chance to win: \n1st prize – Cub Cadet 54 in 24 HP Gas-Powered Ultima Zero-Turn Lawn Mower\, 725cc \n2nd prize – Blackstone 4-Burner Propane Gas Hard-Top Griddle\, 36 in \n3rd prize — $100 \nWe anticipate drawing winners between Memorial Day and Independence Day — stay tuned for more details.  \nSee last year’s winners at: \n6th Annual Essex County Leathernecks Raffle Tickets Are Here
URL:https://essexcountyleathernecks.org/event/essex-county-leathernecks-are-selling-our-annual-raffle-tickets-4/
LOCATION:Walmart Supercenter\, 1134 Wicker St\, Ticonderoga\, NY\, 12974\, United States
CATEGORIES:Raffle tickets
ATTACH;FMTTYPE=image/jpeg:https://essexcountyleathernecks.org/wp-content/uploads/2025/02/istockphoto-478812194-612x612-1.jpg
END:VEVENT
BEGIN:VEVENT
DTSTART;TZID=America/New_York:20250426T090000
DTEND;TZID=America/New_York:20250426T150000
DTSTAMP:20260422T194816
CREATED:20250312T172128Z
LAST-MODIFIED:20250312T172625Z
UID:424-1745658000-1745679600@essexcountyleathernecks.org
SUMMARY:Essex County Leathernecks are Selling our Annual Raffle Tickets
DESCRIPTION:Come see your favorite Essex County Leathernecks at the Ticonderoga Walmart Supercenter. Stop by and say hi–we’ll be near the front entrance with enough Marine Corps finery that you can’t miss us! This year we are offering tickets at $10 each for the chance to win: \n1st prize – Cub Cadet 54 in 24 HP Gas-Powered Ultima Zero-Turn Lawn Mower\, 725cc \n2nd prize – Blackstone 4-Burner Propane Gas Hard-Top Griddle\, 36 in \n3rd prize — $100 \nWe anticipate drawing winners between Memorial Day and Independence Day — stay tuned for more details.  \nSee last year’s winners at: \n6th Annual Essex County Leathernecks Raffle Tickets Are Here \n \n 
URL:https://essexcountyleathernecks.org/event/essex-county-leathernecks-are-selling-our-annual-raffle-tickets-3/
LOCATION:Walmart Supercenter\, 1134 Wicker St\, Ticonderoga\, NY\, 12974\, United States
CATEGORIES:Raffle tickets
ATTACH;FMTTYPE=image/jpeg:https://essexcountyleathernecks.org/wp-content/uploads/2025/02/istockphoto-478812194-612x612-1.jpg
END:VEVENT
BEGIN:VEVENT
DTSTART;TZID=America/New_York:20250413T090000
DTEND;TZID=America/New_York:20250413T150000
DTSTAMP:20260422T194816
CREATED:20250312T170910Z
LAST-MODIFIED:20250312T172611Z
UID:421-1744534800-1744556400@essexcountyleathernecks.org
SUMMARY:Essex County Leathernecks are Selling our Annual Raffle Tickets
DESCRIPTION:Come see your favorite Essex County Leathernecks at the Ticonderoga Walmart Supercenter. Stop by and say hi–we’ll be near the front entrance with enough Marine Corps finery that you can’t miss us! This year we are offering tickets at $10 each for the chance to win: \n1st prize – Cub Cadet 54 in 24 HP Gas-Powered Ultima Zero-Turn Lawn Mower\, 725cc \n2nd prize – Blackstone 4-Burner Propane Gas Hard-Top Griddle\, 36 in \n3rd prize — $100 \nWe anticipate drawing winners between Memorial Day and Independence Day — stay tuned for more details.  \nSee last year’s winners at: \n6th Annual Essex County Leathernecks Raffle Tickets Are Here \n \n  \n 
URL:https://essexcountyleathernecks.org/event/essex-county-leathernecks-are-selling-our-annual-raffle-tickets-2/
LOCATION:Walmart Supercenter\, 1134 Wicker St\, Ticonderoga\, NY\, 12974\, United States
CATEGORIES:Raffle tickets
ATTACH;FMTTYPE=image/jpeg:https://essexcountyleathernecks.org/wp-content/uploads/2025/02/istockphoto-478812194-612x612-1.jpg
END:VEVENT
BEGIN:VEVENT
DTSTART;TZID=America/New_York:20250412T090000
DTEND;TZID=America/New_York:20250412T150000
DTSTAMP:20260422T194816
CREATED:20250312T164933Z
LAST-MODIFIED:20250312T172558Z
UID:418-1744448400-1744470000@essexcountyleathernecks.org
SUMMARY:Essex County Leathernecks are Selling our Annual Raffle Tickets
DESCRIPTION:Come see your favorite Essex County Leathernecks at the Ticonderoga Walmart Supercenter. Stop by and say hi–we’ll be near the front entrance with enough Marine Corps finery that you can’t miss us! This year we are offering tickets at $10 each for the chance to win: \n1st prize – Cub Cadet 54 in 24 HP Gas-Powered Ultima Zero-Turn Lawn Mower\, 725cc \n2nd prize – Blackstone 4-Burner Propane Gas Hard-Top Griddle\, 36 in \n3rd prize — $100 \nWe anticipate drawing winners between Memorial Day and Independence Day — stay tuned for more details. \nSee last year’s winners at: \n6th Annual Essex County Leathernecks Raffle Tickets Are Here
URL:https://essexcountyleathernecks.org/event/essex-county-leathernecks-are-selling-our-annual-raffle-tickets/
LOCATION:Walmart Supercenter\, 1134 Wicker St\, Ticonderoga\, NY\, 12974\, United States
CATEGORIES:Raffle tickets
ATTACH;FMTTYPE=image/jpeg:https://essexcountyleathernecks.org/wp-content/uploads/2025/02/istockphoto-478812194-612x612-1.jpg
END:VEVENT
BEGIN:VEVENT
DTSTART;TZID=America/New_York:20250312T080000
DTEND;TZID=America/New_York:20250312T170000
DTSTAMP:20260422T194816
CREATED:20250312T211859Z
LAST-MODIFIED:20250312T211859Z
UID:463-1741766400-1741798800@essexcountyleathernecks.org
SUMMARY:Essex County Leathernecks are Selling our Annual Raffle Tickets
DESCRIPTION:Come see your favorite Essex County Leathernecks at the Ticonderoga Walmart Supercenter. Stop by and say hi–we’ll be near the front entrance with enough Marine Corps finery that you can’t miss us! This year we are offering tickets at $10 each for the chance to win: \n1st prize – Cub Cadet 54 in 24 HP Gas-Powered Ultima Zero-Turn Lawn Mower\, 725cc \n2nd prize – Blackstone 4-Burner Propane Gas Hard-Top Griddle\, 36 in \n3rd prize — $100 \nWe anticipate drawing winners between Memorial Day and Independence Day — stay tuned for more details.  \nSee last year’s winners at: \n6th Annual Essex County Leathernecks Raffle Tickets Are Here
URL:https://essexcountyleathernecks.org/event/essex-county-leathernecks-are-selling-our-annual-raffle-tickets-8/
CATEGORIES:Raffle tickets
ATTACH;FMTTYPE=image/jpeg:https://essexcountyleathernecks.org/wp-content/uploads/2025/02/istockphoto-478812194-612x612-1.jpg
END:VEVENT
END:VCALENDAR